BEGIN:VCALENDAR
VERSION:2.0
PRODID:-//AVECER - ECPv6.15.20//NONSGML v1.0//EN
CALSCALE:GREGORIAN
METHOD:PUBLISH
X-ORIGINAL-URL:https://avecer.co
X-WR-CALDESC:Eventos para AVECER
REFRESH-INTERVAL;VALUE=DURATION:PT1H
X-Robots-Tag:noindex
X-PUBLISHED-TTL:PT1H
BEGIN:VTIMEZONE
TZID:UTC
BEGIN:STANDARD
TZOFFSETFROM:+0000
TZOFFSETTO:+0000
TZNAME:UTC
DTSTART:20230101T000000
END:STANDARD
END:VTIMEZONE
BEGIN:VEVENT
DTSTART;VALUE=DATE:20240717
DTEND;VALUE=DATE:20240720
DTSTAMP:20260425T032407
CREATED:20240419T191009Z
LAST-MODIFIED:20240419T192617Z
UID:1104-1721174400-1721433599@avecer.co
SUMMARY:Congreso Internacional Porkaméricas 2024
DESCRIPTION:El evento más importante de porcicultura en Colombia y uno de los más reconocidos a nivel mundial !Regresa! Desde el 17 al 19 de julio de 2024\, se desarrollara este evento imperdible\, en el Centro de Convenciones de Cartagena – Colombia. \nDurante tres días puedes disfrutar de las tendencias y recientes tecnologías aplicadas a la producción porcina\, visualizando la apertura de nuevos negocios y mercados. Además se llevará a cabo una muestra comercial de más de 60 empresas aliadas del sector y una agenda académica enriquecida con conferencistas internacionales.
URL:https://avecer.co/eventos/congreso-internacional-porkamericas-2024/
LOCATION:cartagena\, Cartagena\, Getsemaní
CATEGORIES:Ferias Nacionales
ATTACH;FMTTYPE=image/jpeg:https://avecer.co/wp-content/uploads/2024/04/logo-pork.jpg
END:VEVENT
END:VCALENDAR