BEGIN:VCALENDAR
VERSION:2.0
PRODID:-//AVECER - ECPv6.15.20//NONSGML v1.0//EN
CALSCALE:GREGORIAN
METHOD:PUBLISH
X-WR-CALNAME:AVECER
X-ORIGINAL-URL:https://avecer.co
X-WR-CALDESC:Eventos para AVECER
REFRESH-INTERVAL;VALUE=DURATION:PT1H
X-Robots-Tag:noindex
X-PUBLISHED-TTL:PT1H
BEGIN:VTIMEZONE
TZID:UTC
BEGIN:STANDARD
TZOFFSETFROM:+0000
TZOFFSETTO:+0000
TZNAME:UTC
DTSTART:20220101T000000
END:STANDARD
END:VTIMEZONE
BEGIN:VEVENT
DTSTART;VALUE=DATE:20231117
DTEND;VALUE=DATE:20231118
DTSTAMP:20260425T172513
CREATED:20231117T124029Z
LAST-MODIFIED:20240419T171636Z
UID:1004-1700179200-1700265599@avecer.co
SUMMARY:Factores determinantes para un control Integral de Salmonela
DESCRIPTION:
URL:https://avecer.co/eventos/factores-determinantes-para-un-control-integral-de-salmonela/
LOCATION:Bogotá – Colombia
CATEGORIES:Ferias Nacionales
ATTACH;FMTTYPE=image/jpeg:https://avecer.co/wp-content/uploads/2023/11/1700176886603-e1713546948308.jpeg
END:VEVENT
BEGIN:VEVENT
DTSTART;VALUE=DATE:20231121
DTEND;VALUE=DATE:20231123
DTSTAMP:20260425T172513
CREATED:20231111T122022Z
LAST-MODIFIED:20231124T020106Z
UID:966-1700524800-1700697599@avecer.co
SUMMARY:333 Experience Congress LATAM 2023
DESCRIPTION: \n\nEl 333 Experience Congress LATAM 2023\, tendrá lugar en Centro de Convenciones Plaza Mayor en Medellín\, Colombia los días 21 y 22 de noviembre de 2023.\n\nSerá el primer congreso de porcicultura con un enfoque en sostenibilidad\, en el que se reunirá a más de 10 países de la región\, se contará con la presencia de más de 50 líderes de opinión y más de 1.000 asistentes con los que se representarán a más de 1.000.000 hembras de cría.\n\nEl congreso busca impulsar la innovación y el crecimiento en la industria porcina\, por ello se centrará en cuatro ejes estratégicos\, para abordar los desafíos actuales y futuros de la porcicultura en la región:\n\n 	Gestión empresarial\n 	Liderazgo y gestión de personas\n 	Economía y sostenibilidad\n 	Gestión de la eficiencia y productividad\n\nÚnete al 333 Experience Congress LATAM 2023 y tendrás la oportunidad de aprender de reconocidos expertos. Además\, será un espacio de networking donde se fomentará la unión\, la confianza y los negocios del sector porcino en Latinoamérica.\n\n\n\nConoce todos los detalles y adquiere tu entrada presencial aquí.\n\nEl valor de la entrada desde esta plataforma es únicamente para participar de manera virtual.\n\n¡No pierdas esta oportunidad única de asistir al evento de porcicultura más disruptivo de la región!
URL:https://avecer.co/eventos/333-experience-congress-latam-2023/
CATEGORIES:Ferias Nacionales
ATTACH;FMTTYPE=image/png:https://avecer.co/wp-content/uploads/2023/11/Captura-de-pantalla-2023-11-11-065831.png
END:VEVENT
END:VCALENDAR