BEGIN:VCALENDAR
VERSION:2.0
PRODID:-//AVECER - ECPv6.15.20//NONSGML v1.0//EN
CALSCALE:GREGORIAN
METHOD:PUBLISH
X-ORIGINAL-URL:https://avecer.co
X-WR-CALDESC:Eventos para AVECER
REFRESH-INTERVAL;VALUE=DURATION:PT1H
X-Robots-Tag:noindex
X-PUBLISHED-TTL:PT1H
BEGIN:VTIMEZONE
TZID:UTC
BEGIN:STANDARD
TZOFFSETFROM:+0000
TZOFFSETTO:+0000
TZNAME:UTC
DTSTART:20250101T000000
END:STANDARD
END:VTIMEZONE
BEGIN:VEVENT
DTSTART;TZID=UTC:20260722T080000
DTEND;TZID=UTC:20260724T170000
DTSTAMP:20260423T234454
CREATED:20260220T165742Z
LAST-MODIFIED:20260220T165742Z
UID:1678-1784707200-1784912400@avecer.co
SUMMARY:PORKAMÉRICAS 2026
DESCRIPTION:PORKAMÉRICAS 2026 se consolida como el evento más importante de la porcicultura en el continente\, reuniendo a más de 2.500 líderes\, productores\, técnicos\, empresarios y expertos internacionales de toda la cadena de valor porcícola. \n\n\n\n\n\n\n\n\nDurante 22\, 23 y 24 de julio en la ciudad de Cartagena de Indias tendremos una agenda académica\, técnica y de análisis del contexto global\, en donde el evento ofrecerá contenidos de alto nivel con conferencistas de talla internacional\, quienes marcarán el rumbo y las tendencias del sector porcino a nivel mundial.\n\n\n\n\n\n\n\n\n\nPorkaméricas es mucho más que un foro: es un espacio estratégico para conectar\, hacer networking\, cerrar alianzas comerciales y generar negocios\, donde las principales empresas del sector encuentran una plataforma única para posicionar sus marcas\, lanzar soluciones y fortalecer relaciones con tomadores de decisión. \nToda la cadena de valor de la porcicultura se reúne en un solo lugar\, convirtiendo a PORKAMÉRICAS 2026 en el escenario ideal para las marcas que buscan visibilidad\, impacto y crecimiento dentro del sector.
URL:https://avecer.co/eventos/porkamericas-2026/
LOCATION:Centro Internacional de Convenciones Las Américas\, Anillo Vial\, Sector\, Cielo mar\, Cartagena de Indias\, Cartagena de Indias\, Colombia
CATEGORIES:Ferias Nacionales
ATTACH;FMTTYPE=image/png:https://avecer.co/wp-content/uploads/2026/02/Captura-de-pantalla-2026-02-20-115712.png
END:VEVENT
BEGIN:VEVENT
DTSTART;TZID=UTC:20260901T080000
DTEND;TZID=UTC:20260903T170000
DTSTAMP:20260423T234454
CREATED:20260220T182407Z
LAST-MODIFIED:20260220T182407Z
UID:1686-1788249600-1788454800@avecer.co
SUMMARY:XXII Congreso Fenavi 2026
DESCRIPTION:En su versión anterior\, bajo el lema #AviculturaSostenible\, el XXI Congreso Fenavi llevado a cabo del 4 al 6 de junio en Corferias\, Bogotá\, reunió a más de 3.900 asistentes de 25 países\, 64 conferencistas\, tres salones académicos y una impresionante muestra comercial con 230 stands en más de 20.000 mt2. \nCon una mirada optimista hacia el futuro\, el XXII Congreso Fenavi será el evento avícola de habla hispana más grande del mundo. Se celebrará en Cali del 1 al 3 de septiembre de 2026 en el Centro de Eventos Valle del Pacífico y tendrá la presencia de más de 3.500 asistentes\, 50 conferencistas\, 200 patrocinadores\, en un espacio de más de 40.000 mt2. \nAdemás de una agenda académica que desarrollará los temas clave de la avicultura y su compromiso con la bioseguridad\, la sostenibilidad\, el bienestar y la nutrición\, los asistentes podrán conocer los últimos avances en tecnología\, equipos\, suministros y servicios utilizados en la incubación\, y la producción y el procesamiento de huevos\, carne de pollo y aquellos involucrados en la fabricación de alimentos. \n \nComo sede del Congreso Fenavi 2026\, Cali ofrece tanto una plataforma moderna y eficiente para el intercambio de ideas y el crecimiento de la industria avícola\, como una oportunidad para que los asistentes experimenten la riqueza cultural y gastronómica de la región. \nEl Centro de Eventos Valle del Pacífico es uno de los recintos más modernos y completos de Colombia para la realización de eventos\, congresos y ferias. Ubicado estratégicamente a las afueras de Cali\, en el corazón del Valle del Cauca\, este centro de eventos se ha consolidado como un referente en infraestructura y servicios para el desarrollo de encuentros nacionales e internacionales de gran envergadura.
URL:https://avecer.co/eventos/xxii-congreso-fenavi-2026/
LOCATION:Centro de Eventos Valle del Pacífico\, Cl. 15 #26-120\, Arroyo Hondo\, Yumbo\, Valle del Cauca\, Yumbo\, Colombia
CATEGORIES:Ferias Nacionales
ATTACH;FMTTYPE=image/png:https://avecer.co/wp-content/uploads/2026/02/Captura-de-pantalla-2026-02-20-131108.png
END:VEVENT
BEGIN:VEVENT
DTSTART;TZID=UTC:20261110T080000
DTEND;TZID=UTC:20261113T170000
DTSTAMP:20260423T234454
CREATED:20260220T184957Z
LAST-MODIFIED:20260220T184957Z
UID:1693-1794297600-1794589200@avecer.co
SUMMARY:EuroTier 2026 Intelligence in animal farming
DESCRIPTION:Como feria líder mundial\, EuroTier presenta las innovaciones\, productos y servicios más importantes para la cría y el levante de animales de producción. El enfoque está en bovinos\, porcinos\, aves y acuicultura: la transformación del alimento en carne\, leche y huevos. Temas y tendencias\, como sistemas alternativos de alojamiento para animales\, protección del clima y del medio ambiente\, digitalización\, procesamiento\, refinamiento y distribución comercial\, brindan información e inspiración. El principal grupo objetivo de visitantes está conformado por productores y comerciantes profesionales. \n \nEuroTier es la feria internacional líder en cría y ganadería profesional. Es una plataforma de innovación definitiva para la industria ganadera mundial que proporciona información sobre innovaciones y estándares establecidos. El Fechas EuroTier Hannover 2026 Se celebrarán del 10 al 13 de noviembre de 2026; más de 2\,600 expositores nacionales e internacionales presentarán los últimos desarrollos\, productos y servicios para prácticas agrícolas y ganaderas orientadas al futuro y sostenibles. \nDesde hace más de 30 años\, Hannover Messe acoge debates\, exposiciones y conferencias de gran calidad dedicados a encontrar soluciones a los problemas futuros de la ganadería. La oferta internacional de ganado vacuno\, porcino\, avícola\, ovino\, caprino y acuícola será presentada por empresas líderes y creadores de tendencias ante una audiencia de 150\,000 invitados especializados en Euronivel 2026.
URL:https://avecer.co/eventos/eurotier-2026-intelligence-in-animal-farming/
LOCATION:Hanover\, Germany
CATEGORIES:Ferias Internacionales
ATTACH;FMTTYPE=image/png:https://avecer.co/wp-content/uploads/2026/02/Captura-de-pantalla-2026-02-20-132557.png
END:VEVENT
BEGIN:VEVENT
DTSTART;TZID=UTC:20261111T080000
DTEND;TZID=UTC:20261113T170000
DTSTAMP:20260423T234454
CREATED:20260220T191625Z
LAST-MODIFIED:20260220T192234Z
UID:1699-1794384000-1794589200@avecer.co
SUMMARY:OVUM 2026 XXIX Congreso Latinoamericano de Avicultura
DESCRIPTION:Reserva la fecha para participar en el evento más grande que celebra la industria avícola en Latinoamérica. XXIX Congreso Latinoamericano de Avicultura\, Del 11 al 13 de noviembre 2026\, en Ciudad de Guatemala\, tendrás la oportunidad de participar en una dinámica exposición\, conferencias\, mesas de negocios\, eventos sociales\, y la inigualable oportunidad de conocer Guatemala. Marca tu calendario para este congreso que reunirá a expertos\, soluciones innovadoras en servicios y maquinaria\, así como a líderes de la industria avícola\, durante cuatro días de un evento que presentará las últimas tendencias en organización\, brindando una plataforma extraordinaria para hacer negocios. \n \nOVUM es el Congreso Latinoamericano de Avicultura\, y su público objetivo incluye una amplia gama de actores de la industria avícola\, tales como productores\, proveedores\, investigadores\, organizaciones gubernamentales e instituciones financieras.  La ciudad de Guatemala será el telón de fondo perfecto para recibirlos.
URL:https://avecer.co/eventos/ovum-2026-xxix-congreso-latinoamericano-de-avicultura/
LOCATION:Parque de la Industria\, Ciudad de Guatemala\, Guatemala
CATEGORIES:Ferias Internacionales
ATTACH;FMTTYPE=image/png:https://avecer.co/wp-content/uploads/2026/02/Captura-de-pantalla-2026-02-20-135452.png
END:VEVENT
BEGIN:VEVENT
DTSTART;TZID=UTC:20261118T080000
DTEND;TZID=UTC:20261120T170000
DTSTAMP:20260423T234454
CREATED:20260220T193132Z
LAST-MODIFIED:20260220T193132Z
UID:1705-1794988800-1795194000@avecer.co
SUMMARY:VII 333 Experience Congress Latam 2026
DESCRIPTION:UN ESPACIO DE DESARROLLO DE PERSONAS Y EMPRESAS MEDIANTE LA CREACIÓN DE REDES APRENDIZAJE Y VISIÓN DE FUTURO PARA LA PORCICULTURA LATINOAMERICANA \nUna experiencia imperdible que reúne a líderes del sector porcino en un entorno de alta calidad y oportunidades excepcionales de Networking. \nEl 333 Experience Congress Latam no es solo un congreso\, se abordan las últimas tendencias\, innovaciones tecnológicas y estrategias clave para la industria. \n \nMéxico se consolida como un actor clave en la porcicultura latinoamericana\, posicionándose como el segundo mayor productor de carne de cerdo en la región y registrando en los últimos años un crecimiento sostenido tanto en producción como en consumo. Este dinamismo reﬂeja no solo la solidez del sector porcino mexicano\, sino también su enorme potencial de expansión en el corto y mediano plazo. En este contexto\, la elección de México como sede del 333 Experience Congress Latam 2026 cobra especial relevancia\, al reconocer su papel estratégico en la transformación\, innovación y proyección internacional de la industria porcina en América Latina.
URL:https://avecer.co/eventos/vii-333-experience-congress-latam-2026/
LOCATION:Palaco de la Cultura y los Congresos\, Zona Metropolitana\, Guadalajara\, Mexico
CATEGORIES:Ferias Internacionales
ATTACH;FMTTYPE=image/png:https://avecer.co/wp-content/uploads/2026/02/Captura-de-pantalla-2026-02-20-142456.png
END:VEVENT
END:VCALENDAR