BEGIN:VCALENDAR
VERSION:2.0
PRODID:-//AVECER - ECPv6.15.20//NONSGML v1.0//EN
CALSCALE:GREGORIAN
METHOD:PUBLISH
X-ORIGINAL-URL:https://avecer.co
X-WR-CALDESC:Eventos para AVECER
REFRESH-INTERVAL;VALUE=DURATION:PT1H
X-Robots-Tag:noindex
X-PUBLISHED-TTL:PT1H
BEGIN:VTIMEZONE
TZID:UTC
BEGIN:STANDARD
TZOFFSETFROM:+0000
TZOFFSETTO:+0000
TZNAME:UTC
DTSTART:20250101T000000
END:STANDARD
END:VTIMEZONE
BEGIN:VEVENT
DTSTART;TZID=UTC:20260128T070000
DTEND;TZID=UTC:20260130T173000
DTSTAMP:20260423T235544
CREATED:20260218T152256Z
LAST-MODIFIED:20260218T152256Z
UID:1651-1769583600-1769794200@avecer.co
SUMMARY:International Production & Processing Expo (IPPE) 2025
DESCRIPTION:El IPPE reunirá a más de 1\,300 expositores en Atlanta\, GA del 28 al 30 de enero de 2026. El IPPE es la exhibición anual más grande del mundo\, en donde este 2026 ofrecerá información oportuna e importante\, además de una forma eficiente para que los productores y procesadores encuentren soluciones para mejorar sus operaciones. \n  \n \n  \nSerá el evento anual de la industria avícola más grande del mundo\, con un amplia gama de tomadores de decisiones nacionales e internacionales que asistirán para encontrar soluciones para su negocio\, establecer contactos con colegas de la industria y conocer los últimos desarrollos tecnológicos y los problemas a los que se enfrenta la industria. \nEl año 2025 se centro en cubrir materias económicas\, de producción y procesamiento de máxima prioridad para los productores y procesadores latinoamericanos de carne\, pollo y huevos\, reuniendo lideres de empresas de genética\, proveedores\, integradores y académicos\, se espera que para este año la audiencia global de profesionales de la carne\, huevos\, aves y alimentos para animales encuentren y socialicen las soluciones\, tecnologías\, investigaciones\, procesos\, servicios y productos nuevos que las industrias a nivel global están desarrollando y ofreciendo. \n 
URL:https://avecer.co/eventos/international-production-processing-expo-ippe-2025/
LOCATION:Georgia World Congress Center\, Atlanta\, United States
CATEGORIES:Ferias Internacionales
ATTACH;FMTTYPE=image/png:https://avecer.co/wp-content/uploads/2026/02/Captura-de-pantalla-2026-02-13-143830.png
END:VEVENT
END:VCALENDAR