BEGIN:VCALENDAR
VERSION:2.0
PRODID:-//AVECER - ECPv6.15.20//NONSGML v1.0//EN
CALSCALE:GREGORIAN
METHOD:PUBLISH
X-ORIGINAL-URL:https://avecer.co
X-WR-CALDESC:Eventos para AVECER
REFRESH-INTERVAL;VALUE=DURATION:PT1H
X-Robots-Tag:noindex
X-PUBLISHED-TTL:PT1H
BEGIN:VTIMEZONE
TZID:UTC
BEGIN:STANDARD
TZOFFSETFROM:+0000
TZOFFSETTO:+0000
TZNAME:UTC
DTSTART:20230101T000000
END:STANDARD
END:VTIMEZONE
BEGIN:VEVENT
DTSTART;VALUE=DATE:20240603
DTEND;VALUE=DATE:20240608
DTSTAMP:20260425T120241
CREATED:20240419T195052Z
LAST-MODIFIED:20240522T005718Z
UID:1121-1717372800-1717804799@avecer.co
SUMMARY:Seminario Internacional MIAVIT 2024
DESCRIPTION:El Seminario Internacional MIAVIT 2024\, se llevará a cabo en la sede central de Miavit en Essen (Oldb)\, Alemania\, un espacio para conocer un poco más sobre la marca\, pues se hará un recorrido por las instalaciones y se visitarán las 10 plantas que conforman la sede central y las oficinas generales.  \n \nAdemás\, en está edición se celebran 60 años de fundación ¡No te lo puedes perder! \nPara más información no dudes en visitar:
URL:https://avecer.co/eventos/seminario-internacional-miavit-2024/
LOCATION:Essen\, Essen (Oldb)\, Germany
CATEGORIES:Ferias Internacionales
ATTACH;FMTTYPE=image/jpeg:https://avecer.co/wp-content/uploads/2024/04/intento-mil-e1713559860319.jpg
END:VEVENT
END:VCALENDAR