BEGIN:VCALENDAR
VERSION:2.0
PRODID:-//AVECER - ECPv6.15.20//NONSGML v1.0//EN
CALSCALE:GREGORIAN
METHOD:PUBLISH
X-WR-CALNAME:AVECER
X-ORIGINAL-URL:https://avecer.co
X-WR-CALDESC:Eventos para AVECER
REFRESH-INTERVAL;VALUE=DURATION:PT1H
X-Robots-Tag:noindex
X-PUBLISHED-TTL:PT1H
BEGIN:VTIMEZONE
TZID:UTC
BEGIN:STANDARD
TZOFFSETFROM:+0000
TZOFFSETTO:+0000
TZNAME:UTC
DTSTART:20230101T000000
END:STANDARD
END:VTIMEZONE
BEGIN:VEVENT
DTSTART;VALUE=DATE:20240604
DTEND;VALUE=DATE:20240608
DTSTAMP:20260425T125248
CREATED:20240522T001145Z
LAST-MODIFIED:20240522T001801Z
UID:1203-1717459200-1717804799@avecer.co
SUMMARY:IPVS & ESPHM  2024
DESCRIPTION:  \nSea parte del congreso IPVS y ESPHM este junio 4-7 del 2024\, y experimente el evento científico más grande e importante de la industria porcina a nivel mundial. \n \nEl Centro de Congresos de Leipzig (coordenadas: 51°23’56”N / 012°23’54”E) es capaz de combinar los estandares arquitectónicos con los medios de comunicación y la tecnología. \nLeipzig está justo en el centro de Europa\, es rápido y cómodo llegar al Centro de Congresos\, sea en autobús\, avión o coche. \n \n \n \n  \n 
URL:https://avecer.co/eventos/ipvsesphm-2024/
LOCATION:Leipzig\, Alemania
CATEGORIES:Ferias Internacionales
ATTACH;FMTTYPE=image/png:https://avecer.co/wp-content/uploads/2024/05/IPVS.1.png
END:VEVENT
END:VCALENDAR