BEGIN:VCALENDAR
VERSION:2.0
PRODID:-//AVECER - ECPv6.15.20//NONSGML v1.0//EN
CALSCALE:GREGORIAN
METHOD:PUBLISH
X-ORIGINAL-URL:https://avecer.co
X-WR-CALDESC:Eventos para AVECER
REFRESH-INTERVAL;VALUE=DURATION:PT1H
X-Robots-Tag:noindex
X-PUBLISHED-TTL:PT1H
BEGIN:VTIMEZONE
TZID:UTC
BEGIN:STANDARD
TZOFFSETFROM:+0000
TZOFFSETTO:+0000
TZNAME:UTC
DTSTART:20240101T000000
END:STANDARD
END:VTIMEZONE
BEGIN:VEVENT
DTSTART;TZID=UTC:20251001T070000
DTEND;TZID=UTC:20251003T180000
DTSTAMP:20260424T045336
CREATED:20250924T181151Z
LAST-MODIFIED:20250924T181151Z
UID:1607-1759302000-1759514400@avecer.co
SUMMARY:XVI Congreso Internacional Avícola
DESCRIPTION:ASPA | XVI Congreso Internacional Avícola \nUn congreso con alma de territorio y visión de futuro. \nSantander es una región de geografía imponente y espíritu fuerte\, donde la avicultura representa más que una industria: es símbolo de carácter\, resiliencia y desarrollo. Al igual que sus montañas\, las crestas de los pollos reflejan la berraquera de una tierra que avanza con determinación\, integrando tradición\, identidad y progreso. Aquí\, entre montañas e historias\, se dan cita líderes\, empresarios\, académicos y técnicos de la industria avícola para abordar los grandes retos del presente: soberanía alimentaria\, cambio climático\, sostenibilidad\, nutrición de precisión y bioseguridad.
URL:https://avecer.co/eventos/xvi-congreso-internacional-avicola/
LOCATION:Centro de Convenciones Neomundo\, Calle 89 Transversal Oriental Metropolitana-69\, Barrio\, Cl. 100\, Bucaramanga\, Santander\, Bucaramanga\, Colombia
ATTACH;FMTTYPE=image/png:https://avecer.co/wp-content/uploads/2025/09/Captura-de-pantalla-2025-09-24-123455.png
END:VEVENT
BEGIN:VEVENT
DTSTART;TZID=UTC:20251015T070000
DTEND;TZID=UTC:20251017T200000
DTSTAMP:20260424T045336
CREATED:20250308T211603Z
LAST-MODIFIED:20250924T215601Z
UID:1403-1760511600-1760731200@avecer.co
SUMMARY:333 Experience Congress LATAM 2025
DESCRIPTION:El 333 Experience Congress LATAM regresa en 2025\, como un punto de encuentro clave para la industria porcina de la región. \nEste congreso busca fortalecer las alianzas a nivel latinoamericano\, fomentando conexiones estratégicas y forjando la “unión y confianza sin fronteras” entre todos los actores del sector. \nEn los últimos años\, Colombia ha registrado las tasas de crecimiento más altas entre los países líderes del sector en la región\, consolidándose como un mercado clave y con una dinámica que refleja un avance significativo en la producción porcina. Esta evolución reafirma la importancia de elegir a Colombia como sede del 333 Experience Congress Latam 2025 reconociendo su rol fundamental en el desarrollo y la innovación de la industria porcina latinoamericana. \nTe estaremos esperando en la Zona Networking stand # 38
URL:https://avecer.co/eventos/evento-de-porcicultura-latinoamericano/
LOCATION:Centro de Eventos Valle del Pacífico\, Cl. 15 #26-120\, Arroyo Hondo\, Yumbo\, Valle del Cauca\, Yumbo\, Colombia
CATEGORIES:Ferias Internacionales
ATTACH;FMTTYPE=image/png:https://avecer.co/wp-content/uploads/2025/03/Captura-de-pantalla-2025-09-24-113822.png
END:VEVENT
END:VCALENDAR