BEGIN:VCALENDAR
VERSION:2.0
PRODID:-//AVECER - ECPv6.15.20//NONSGML v1.0//EN
CALSCALE:GREGORIAN
METHOD:PUBLISH
X-WR-CALNAME:AVECER
X-ORIGINAL-URL:https://avecer.co
X-WR-CALDESC:Eventos para AVECER
REFRESH-INTERVAL;VALUE=DURATION:PT1H
X-Robots-Tag:noindex
X-PUBLISHED-TTL:PT1H
BEGIN:VTIMEZONE
TZID:UTC
BEGIN:STANDARD
TZOFFSETFROM:+0000
TZOFFSETTO:+0000
TZNAME:UTC
DTSTART:20250101T000000
END:STANDARD
END:VTIMEZONE
BEGIN:VEVENT
DTSTART;TZID=UTC:20260204T070000
DTEND;TZID=UTC:20260206T170000
DTSTAMP:20260423T234453
CREATED:20260218T162042Z
LAST-MODIFIED:20260218T162042Z
UID:1660-1770188400-1770397200@avecer.co
SUMMARY:Congreso XXXII AMVECAJ 2026
DESCRIPTION:Del 4 al 6 de febrero de 2026 se realizará el AMVECAJ XXXII Congreso 2026\, el cual es uno de los encuentros de referencia ara la porcicultura en México\, que reunirá ponentes especializados\, empresas proveedoras y actores del sector en un espacio de actualización técnica e intercambio profesional. \n  \n \n  \nEl congreso es organizado por AMVECAJ – Asociación de Médicos Veterinarios Especialistas en Cerdos de los Altos de Jalisco\, A.C.\, contemplará una agenda técnica orientada a la actualización profesional y al intercambio de conocimientos aplicados a la producción porcina. Será un encuentro técnico\, reuniendo a profesionales del sector porcícola para abordar temas de producción\, sanidad y gestión\, con foco en nutrición\, reproducción\, bienestar animal y herramientas digitales aplicadas a la porcicultura. \n 
URL:https://avecer.co/eventos/congreso-xxxii-amvecaj-2026/
LOCATION:Nucleo de la Feria\, Parque del Bicentenario\, Tepatitlán de Morelos\, Mexico
CATEGORIES:Ferias Internacionales
ATTACH;FMTTYPE=image/png:https://avecer.co/wp-content/uploads/2026/02/Captura-de-pantalla-2026-02-18-103506.png
END:VEVENT
BEGIN:VEVENT
DTSTART;TZID=UTC:20260216T070000
DTEND;TZID=UTC:20260220T180000
DTSTAMP:20260423T234454
CREATED:20260218T191738Z
LAST-MODIFIED:20260218T191738Z
UID:1666-1771225200-1771610400@avecer.co
SUMMARY:Congreso de distribuidores para Feed solutions Nutec LATAM // Querétaro
DESCRIPTION:  \nGrupo Nutec invita a sus distribuidores a un acercamiento para  resolver dudas\, ver las expectativas y oportunidades del mercado para este nuevo año 2026 y así tener una convivencia y el espacio de integración de todos los distribuidores de Feed Solutions. \nLa idea es tener un acercamiento puntual con la red de distribución\, resolver dudas o inquietudes\, ver expectativas y oportunidades de mercado\, tener una convivencia y conocerse entre distribuidores de Feed solutions. \n\n \nDel 16 al 20 de febrero se realizarán charlas técnicas\, visitas a las plantas y una mayor aproximación por parte del Grupo Nutec hacia sus aliados\, sus distribuidores. \n 
URL:https://avecer.co/eventos/congreso-de-distribuidores-para-feed-solutions-nutec-latam-queretaro/
LOCATION:Querétaro\, Mexico
CATEGORIES:Ferias Internacionales
ATTACH;FMTTYPE=image/png:https://avecer.co/wp-content/uploads/2026/02/Captura-de-pantalla-2026-02-18-141326.png
END:VEVENT
END:VCALENDAR